Name | Last modified | Size | Description | |
---|---|---|---|---|
Parent Directory | - | |||
checksrc-out.txt | 28-Jul-2024 00:39 | 6.3K | ||
install-out.txt | 28-Jul-2024 00:39 | 1.1K | ||
buildsrc-out.txt | 28-Jul-2024 00:39 | 885 | ||
buildsrc-summary.dcf | 28-Jul-2024 00:39 | 418 | ||
checksrc-summary.dcf | 28-Jul-2024 00:39 | 406 | ||
install-summary.dcf | 28-Jul-2024 00:39 | 255 | ||