Index of /checkResults/devel/bioc-LATEST/timecourse/raw-results

[ICO]NameLast modifiedSizeDescription

[DIR]Parent Directory  -  
[   ]info.dcf20-Jan-2022 01:12 276  
[DIR]merida1/20-Jan-2022 01:12 -  
[DIR]nebbiolo1/20-Jan-2022 01:07 -  
[DIR]palomino3/20-Jan-2022 01:10 -  
[DIR]riesling1/20-Jan-2022 01:08 -