Index of /checkResults/devel/bioc-LATEST/tigre/raw-results
Name
Last modified
Size
Description
Parent Directory
-
info.dcf
16-Aug-2022 00:08
267
kjohnson/
12-Jul-2022 00:06
-
lconway/
16-Aug-2022 00:08
-
nebbiolo2/
16-Aug-2022 00:05
-
palomino4/
16-Aug-2022 00:07
-