Index of /checkResults/devel/bioc-LATEST/tigre/raw-results/palomino4

[ICO]NameLast modifiedSizeDescription

[DIR]Parent Directory  -  
[TXT]buildbin-out.txt02-Jul-2022 00:07 1.7K 
[   ]buildbin-summary.dcf02-Jul-2022 00:07 521  
[TXT]buildsrc-out.txt02-Jul-2022 00:07 921  
[   ]buildsrc-summary.dcf02-Jul-2022 00:07 445  
[TXT]checksrc-out.txt02-Jul-2022 00:07 3.7K 
[   ]checksrc-summary.dcf02-Jul-2022 00:07 442  
[TXT]install-out.txt02-Jul-2022 00:07 2.3K 
[   ]install-summary.dcf02-Jul-2022 00:07 610