Name | Last modified | Size | Description | |
---|---|---|---|---|
Parent Directory | - | |||
install-summary.dcf | 27-Jul-2024 00:40 | 274 | ||
checksrc-summary.dcf | 27-Jul-2024 00:40 | 458 | ||
buildsrc-summary.dcf | 27-Jul-2024 00:40 | 464 | ||
buildbin-summary.dcf | 27-Jul-2024 00:40 | 533 | ||
buildsrc-out.txt | 27-Jul-2024 00:40 | 966 | ||
checksrc-out.txt | 27-Jul-2024 00:40 | 4.5K | ||
install-out.txt | 27-Jul-2024 00:40 | 12K | ||
buildbin-out.txt | 27-Jul-2024 00:40 | 12K | ||