Name | Last modified | Size | Description | |
---|---|---|---|---|
Parent Directory | - | |||
buildsrc-out.txt | 27-Jul-2024 00:39 | 920 | ||
buildsrc-summary.dcf | 27-Jul-2024 00:39 | 432 | ||
checksrc-out.txt | 27-Jul-2024 00:39 | 3.8K | ||
checksrc-summary.dcf | 27-Jul-2024 00:39 | 425 | ||
install-out.txt | 27-Jul-2024 00:39 | 9.7K | ||
install-summary.dcf | 27-Jul-2024 00:39 | 264 | ||