Name | Last modified | Size | Description | |
---|---|---|---|---|
Parent Directory | - | |||
buildbin-out.txt | 27-Jul-2024 00:41 | 9.8K | ||
buildbin-summary.dcf | 27-Jul-2024 00:41 | 548 | ||
buildsrc-out.txt | 27-Jul-2024 00:41 | 906 | ||
buildsrc-summary.dcf | 27-Jul-2024 00:41 | 436 | ||
checksrc-out.txt | 27-Jul-2024 00:41 | 4.0K | ||
checksrc-summary.dcf | 27-Jul-2024 00:41 | 455 | ||
install-out.txt | 27-Jul-2024 00:41 | 7.7K | ||
install-summary.dcf | 27-Jul-2024 00:41 | 275 | ||