Index of /checkResults/devel/bioc-LATEST/ternarynet/raw-results/kunpeng2
Name
Last modified
Size
Description
Parent Directory
-
buildsrc-out.txt
16-May-2024 02:46
907
buildsrc-summary.dcf
16-May-2024 02:46
437
install-out.txt
16-May-2024 02:46
9.7K
install-summary.dcf
16-May-2024 02:46
276