Index of /checkResults/devel/bioc-LATEST/structToolbox/raw-results

[ICO]NameLast modifiedSizeDescription

[DIR]Parent Directory  -  
[DIR]nebbiolo2/26-Sep-2023 00:36 -  
[DIR]palomino4/26-Sep-2023 00:38 -  
[DIR]lconway/26-Sep-2023 00:39 -  
[   ]info.dcf26-Sep-2023 00:40 280  
[DIR]kunpeng2/26-Sep-2023 00:40 -