![]() | Name | Last modified | Size | Description |
---|---|---|---|---|
![]() | Parent Directory | - | ||
![]() | buildsrc-out.txt | 04-Oct-2023 00:37 | 893 | |
![]() | buildsrc-summary.dcf | 04-Oct-2023 00:37 | 436 | |
![]() | checksrc-out.txt | 04-Oct-2023 00:37 | 3.7K | |
![]() | checksrc-summary.dcf | 04-Oct-2023 00:37 | 439 | |
![]() | install-out.txt | 04-Oct-2023 00:37 | 970 | |
![]() | install-summary.dcf | 04-Oct-2023 00:37 | 271 | |