Index of /checkResults/devel/bioc-LATEST/statTarget/raw-results/nebbiolo2

[ICO]NameLast modifiedSizeDescription

[DIR]Parent Directory  -  
[TXT]buildsrc-out.txt18-Jun-2024 01:23 882  
[   ]buildsrc-summary.dcf18-Jun-2024 01:23 431  
[TXT]checksrc-out.txt18-Jun-2024 01:23 4.2K 
[   ]checksrc-summary.dcf18-Jun-2024 01:23 425  
[TXT]install-out.txt18-Jun-2024 01:23 961  
[   ]install-summary.dcf18-Jun-2024 01:23 264