Index of /checkResults/devel/bioc-LATEST/statTarget/raw-results/nebbiolo2

[ICO]NameLast modifiedSizeDescription

[DIR]Parent Directory  -  
[TXT]install-out.txt23-Jul-2024 01:44 961  
[   ]install-summary.dcf23-Jul-2024 01:44 264  
[   ]buildsrc-summary.dcf23-Jul-2024 01:44 431  
[TXT]buildsrc-out.txt23-Jul-2024 01:44 882  
[   ]checksrc-summary.dcf23-Jul-2024 01:44 425  
[TXT]checksrc-out.txt23-Jul-2024 01:44 4.2K