Index of /checkResults/devel/bioc-LATEST/scone/raw-results/nebbiolo2

[ICO]NameLast modifiedSizeDescription

[DIR]Parent Directory  -  
[TXT]buildsrc-out.txt18-Jun-2024 01:23 1.2K 
[   ]buildsrc-summary.dcf18-Jun-2024 01:23 336  
[TXT]checksrc-out.txt27-May-2024 00:35 11K 
[   ]checksrc-summary.dcf27-May-2024 00:35 406  
[TXT]install-out.txt18-Jun-2024 01:23 954  
[   ]install-summary.dcf18-Jun-2024 01:23 255