Index of /checkResults/devel/bioc-LATEST/scone/raw-results/nebbiolo2

[ICO]NameLast modifiedSizeDescription

[DIR]Parent Directory  -  
[TXT]buildsrc-out.txt19-Jul-2024 00:39 885  
[   ]buildsrc-summary.dcf19-Jul-2024 00:39 418  
[TXT]checksrc-out.txt19-Jul-2024 00:39 11K 
[   ]checksrc-summary.dcf19-Jul-2024 00:39 406  
[TXT]install-out.txt19-Jul-2024 00:39 954  
[   ]install-summary.dcf19-Jul-2024 00:39 255