Index of /checkResults/devel/bioc-LATEST/scde/raw-results/nebbiolo2

[ICO]NameLast modifiedSizeDescription

[DIR]Parent Directory  -  
[   ]install-summary.dcf19-Jul-2024 00:39 253  
[   ]checksrc-summary.dcf19-Jul-2024 00:39 408  
[   ]buildsrc-summary.dcf19-Jul-2024 00:39 413  
[TXT]buildsrc-out.txt19-Jul-2024 00:39 761  
[TXT]install-out.txt19-Jul-2024 00:39 4.8K 
[TXT]checksrc-out.txt19-Jul-2024 00:39 33K