Index of /checkResults/devel/bioc-LATEST/scde/raw-results/nebbiolo1

[ICO]NameLast modifiedSizeDescription

[DIR]Parent Directory  -  
[TXT]buildsrc-out.txt25-Jan-2022 01:06 737  
[   ]buildsrc-summary.dcf25-Jan-2022 01:06 407  
[TXT]checksrc-out.txt25-Jan-2022 01:06 29K 
[   ]checksrc-summary.dcf25-Jan-2022 01:06 418  
[TXT]install-out.txt25-Jan-2022 01:06 4.7K 
[   ]install-summary.dcf25-Jan-2022 01:06 253