![]() | Name | Last modified | Size | Description |
---|---|---|---|---|
![]() | Parent Directory | - | ||
![]() | install-summary.dcf | 22-Mar-2023 00:05 | 253 | |
![]() | install-out.txt | 22-Mar-2023 00:05 | 4.8K | |
![]() | checksrc-summary.dcf | 22-Mar-2023 00:05 | 408 | |
![]() | checksrc-out.txt | 22-Mar-2023 00:05 | 29K | |
![]() | buildsrc-summary.dcf | 22-Mar-2023 00:05 | 407 | |
![]() | buildsrc-out.txt | 22-Mar-2023 00:05 | 737 | |