Index of /checkResults/devel/bioc-LATEST/ribor/raw-results/kunpeng2

[ICO]NameLast modifiedSizeDescription

[DIR]Parent Directory  -  
[TXT]buildsrc-out.txt29-Mar-2024 00:41 847  
[   ]buildsrc-summary.dcf29-Mar-2024 00:41 420  
[TXT]checksrc-out.txt29-Mar-2024 00:41 3.5K 
[   ]checksrc-summary.dcf29-Mar-2024 00:41 439  
[TXT]install-out.txt29-Mar-2024 00:41 964  
[   ]install-summary.dcf29-Mar-2024 00:41 264