Index of /checkResults/devel/bioc-LATEST/ribor/raw-results
Name
Last modified
Size
Description
Parent Directory
-
info.dcf
02-Feb-2023 01:10
263
merida1/
02-Feb-2023 01:10
-
nebbiolo1/
02-Feb-2023 01:06
-
palomino3/
02-Feb-2023 01:08
-