Index of /checkResults/devel/bioc-LATEST/regutools/raw-results/lconway

[ICO]NameLast modifiedSizeDescription

[DIR]Parent Directory  -  
[TXT]buildbin-out.txt22-Sep-2023 00:40 1.2K 
[   ]buildbin-summary.dcf22-Sep-2023 00:40 542  
[TXT]buildsrc-out.txt22-Sep-2023 00:40 864  
[   ]buildsrc-summary.dcf22-Sep-2023 00:40 433  
[TXT]checksrc-out.txt22-Sep-2023 00:40 3.5K 
[   ]checksrc-summary.dcf22-Sep-2023 00:40 452  
[TXT]install-out.txt22-Sep-2023 00:40 1.0K 
[   ]install-summary.dcf22-Sep-2023 00:40 273