Index of /checkResults/devel/bioc-LATEST/pram/raw-results
Name
Last modified
Size
Description
Parent Directory
-
kunpeng2/
16-May-2024 02:46
-
kjohnson1/
01-Jun-2024 08:32
-
info.dcf
05-Jun-2024 00:35
255
nebbiolo2/
05-Jun-2024 00:36
-
palomino4/
05-Jun-2024 00:36
-
merida1/
05-Jun-2024 00:37
-