Name | Last modified | Size | Description | |
---|---|---|---|---|
Parent Directory | - | |||
buildsrc-out.txt | 05-Jun-2024 00:36 | 858 | ||
buildsrc-summary.dcf | 05-Jun-2024 00:36 | 414 | ||
checksrc-out.txt | 05-Jun-2024 00:36 | 3.0K | ||
checksrc-summary.dcf | 05-Jun-2024 00:36 | 402 | ||
install-out.txt | 05-Jun-2024 00:36 | 943 | ||
install-summary.dcf | 05-Jun-2024 00:36 | 253 | ||