Index of /checkResults/devel/bioc-LATEST/phyloseq/raw-results/nebbiolo1

[ICO]NameLast modifiedSizeDescription

[DIR]Parent Directory  -  
[   ]install-summary.dcf29-Mar-2024 00:36 261  
[TXT]install-out.txt29-Mar-2024 00:36 963  
[   ]checksrc-summary.dcf29-Mar-2024 00:36 424  
[TXT]checksrc-out.txt29-Mar-2024 00:36 13K 
[   ]buildsrc-summary.dcf29-Mar-2024 00:36 421  
[TXT]buildsrc-out.txt29-Mar-2024 00:36 873