Index of /checkResults/devel/bioc-LATEST/pathview/raw-results
Name
Last modified
Size
Description
Parent Directory
-
kjohnson/
07-Jul-2022 00:10
-
lconway/
07-Jul-2022 00:09
-
nebbiolo2/
07-Jul-2022 00:05
-
palomino4/
07-Jul-2022 00:07
-
info.dcf
07-Jul-2022 00:10
265