Index of /checkResults/devel/bioc-LATEST/pathview/raw-results/nebbiolo2

[ICO]NameLast modifiedSizeDescription

[DIR]Parent Directory  -  
[TXT]buildsrc-out.txt01-Jul-2022 00:05 1.0K 
[   ]buildsrc-summary.dcf01-Jul-2022 00:05 421  
[TXT]checksrc-out.txt01-Jul-2022 00:05 5.4K 
[   ]checksrc-summary.dcf01-Jul-2022 00:05 434  
[TXT]install-out.txt01-Jul-2022 00:05 1.0K 
[   ]install-summary.dcf01-Jul-2022 00:05 261