Index of /checkResults/devel/bioc-LATEST/orthos/raw-results/palomino8
Name
Last modified
Size
Description
Parent Directory
-
install-out.txt
27-Jul-2024 00:40
817
install-summary.dcf
27-Jul-2024 00:40
265
buildsrc-out.txt
27-Jul-2024 00:40
3.6K
buildsrc-summary.dcf
27-Jul-2024 00:40
365