Name | Last modified | Size | Description | |
---|---|---|---|---|
Parent Directory | - | |||
install-summary.dcf | 27-Jul-2024 00:39 | 256 | ||
install-out.txt | 27-Jul-2024 00:39 | 809 | ||
checksrc-summary.dcf | 26-Jul-2024 00:39 | 409 | ||
checksrc-out.txt | 26-Jul-2024 00:39 | 3.7K | ||
buildsrc-summary.dcf | 27-Jul-2024 00:39 | 337 | ||
buildsrc-out.txt | 27-Jul-2024 00:39 | 7.1K | ||