Index of /checkResults/devel/bioc-LATEST/openCyto/raw-results/kunpeng2

[ICO]NameLast modifiedSizeDescription

[DIR]Parent Directory  -  
[TXT]buildsrc-out.txt02-Mar-2024 01:40 1.6K 
[   ]buildsrc-summary.dcf02-Mar-2024 01:40 347  
[TXT]checksrc-out.txt18-Feb-2024 16:30 22K 
[   ]checksrc-summary.dcf18-Feb-2024 16:30 463  
[TXT]install-out.txt02-Mar-2024 01:40 4.5K 
[   ]install-summary.dcf02-Mar-2024 01:40 273