Index of /checkResults/devel/bioc-LATEST/openCyto/raw-results/kunpeng2

[ICO]NameLast modifiedSizeDescription

[DIR]Parent Directory  -  
[   ]install-summary.dcf29-Mar-2024 00:41 270  
[TXT]install-out.txt29-Mar-2024 00:41 4.4K 
[   ]checksrc-summary.dcf29-Mar-2024 00:41 457  
[TXT]checksrc-out.txt29-Mar-2024 00:41 22K 
[   ]buildsrc-summary.dcf29-Mar-2024 00:41 430  
[TXT]buildsrc-out.txt29-Mar-2024 00:41 1.1K