Name | Last modified | Size | Description | |
---|---|---|---|---|
Parent Directory | - | |||
buildbin-out.txt | 26-Jul-2024 00:42 | 1.2K | ||
buildbin-summary.dcf | 26-Jul-2024 00:42 | 536 | ||
buildsrc-out.txt | 27-Jul-2024 00:42 | 1.5K | ||
buildsrc-summary.dcf | 27-Jul-2024 00:42 | 346 | ||
checksrc-out.txt | 26-Jul-2024 00:42 | 5.5K | ||
checksrc-summary.dcf | 26-Jul-2024 00:42 | 448 | ||
install-out.txt | 27-Jul-2024 00:42 | 1.0K | ||
install-summary.dcf | 27-Jul-2024 00:42 | 271 | ||