Name | Last modified | Size | Description | |
---|---|---|---|---|
Parent Directory | - | |||
install-out.txt | 17-Jul-2024 00:39 | 13K | ||
install-summary.dcf | 17-Jul-2024 00:39 | 267 | ||
buildsrc-out.txt | 17-Jul-2024 00:39 | 1.0K | ||
buildsrc-summary.dcf | 17-Jul-2024 00:39 | 436 | ||
checksrc-out.txt | 17-Jul-2024 00:39 | 4.0K | ||
checksrc-summary.dcf | 17-Jul-2024 00:39 | 430 | ||