Index of /checkResults/devel/bioc-LATEST/mnem/raw-results/palomino3

[ICO]NameLast modifiedSizeDescription

[DIR]Parent Directory  -  
[TXT]buildbin-out.txt29-Feb-2024 01:37 122K 
[   ]buildbin-summary.dcf29-Feb-2024 01:37 498  
[TXT]buildsrc-out.txt29-Feb-2024 01:37 856  
[   ]buildsrc-summary.dcf29-Feb-2024 01:37 439  
[TXT]checksrc-out.txt29-Feb-2024 01:37 4.5K 
[   ]checksrc-summary.dcf29-Feb-2024 01:37 435  
[TXT]install-out.txt29-Feb-2024 01:37 122K 
[   ]install-summary.dcf29-Feb-2024 01:37 263