Index of /checkResults/devel/bioc-LATEST/mnem/raw-results/palomino3

[ICO]NameLast modifiedSizeDescription

[DIR]Parent Directory  -  
[   ]install-summary.dcf29-Mar-2024 00:38 262  
[TXT]install-out.txt29-Mar-2024 00:38 333K 
[   ]checksrc-summary.dcf29-Mar-2024 00:38 435  
[TXT]checksrc-out.txt29-Mar-2024 00:38 4.5K 
[   ]buildsrc-summary.dcf29-Mar-2024 00:38 440  
[TXT]buildsrc-out.txt29-Mar-2024 00:38 856  
[   ]buildbin-summary.dcf29-Mar-2024 00:38 497  
[TXT]buildbin-out.txt29-Mar-2024 00:38 334K