Index of /checkResults/devel/bioc-LATEST/mnem/raw-results/merida1

[ICO]NameLast modifiedSizeDescription

[DIR]Parent Directory  -  
[TXT]buildbin-out.txt29-Feb-2024 01:39 32K 
[   ]buildbin-summary.dcf29-Feb-2024 01:39 512  
[TXT]buildsrc-out.txt29-Feb-2024 01:39 834  
[   ]buildsrc-summary.dcf29-Feb-2024 01:39 419  
[TXT]checksrc-out.txt29-Feb-2024 01:39 4.0K 
[   ]checksrc-summary.dcf29-Feb-2024 01:39 432  
[TXT]install-out.txt29-Feb-2024 01:39 30K 
[   ]install-summary.dcf29-Feb-2024 01:39 263