Index of /checkResults/devel/bioc-LATEST/mnem/raw-results/merida1

[ICO]NameLast modifiedSizeDescription

[DIR]Parent Directory  -  
[   ]install-summary.dcf05-Mar-2024 01:39 263  
[   ]buildsrc-summary.dcf05-Mar-2024 01:39 419  
[   ]checksrc-summary.dcf05-Mar-2024 01:39 432  
[   ]buildbin-summary.dcf05-Mar-2024 01:39 512  
[TXT]buildsrc-out.txt05-Mar-2024 01:39 834  
[TXT]install-out.txt05-Mar-2024 01:39 2.3K 
[TXT]checksrc-out.txt05-Mar-2024 01:39 4.0K 
[TXT]buildbin-out.txt05-Mar-2024 01:39 4.3K