![]() | Name | Last modified | Size | Description |
---|---|---|---|---|
![]() | Parent Directory | - | ||
![]() | buildsrc-out.txt | 30-Nov-2023 01:38 | 833 | |
![]() | buildsrc-summary.dcf | 30-Nov-2023 01:38 | 417 | |
![]() | checksrc-out.txt | 30-Nov-2023 01:38 | 4.1K | |
![]() | checksrc-summary.dcf | 30-Nov-2023 01:38 | 435 | |
![]() | install-out.txt | 30-Nov-2023 01:38 | 1.9K | |
![]() | install-summary.dcf | 30-Nov-2023 01:38 | 262 | |