Index of /checkResults/devel/bioc-LATEST/mnem/raw-results/kunpeng2

[ICO]NameLast modifiedSizeDescription

[DIR]Parent Directory  -  
[TXT]buildsrc-out.txt18-Feb-2024 16:30 836  
[   ]buildsrc-summary.dcf18-Feb-2024 16:30 420  
[TXT]checksrc-out.txt18-Feb-2024 16:30 4.1K 
[   ]checksrc-summary.dcf18-Feb-2024 16:30 441  
[TXT]install-out.txt18-Feb-2024 16:30 2.0K 
[   ]install-summary.dcf18-Feb-2024 16:30 265