Name | Last modified | Size | Description | |
---|---|---|---|---|
Parent Directory | - | |||
buildbin-out.txt | 09-Nov-2023 01:37 | 1.2K | ||
buildbin-summary.dcf | 09-Nov-2023 01:37 | 519 | ||
buildsrc-out.txt | 05-Mar-2024 01:39 | 662 | ||
buildsrc-summary.dcf | 05-Mar-2024 01:39 | 347 | ||
checksrc-out.txt | 09-Nov-2023 01:37 | 6.4K | ||
checksrc-summary.dcf | 09-Nov-2023 01:37 | 437 | ||
install-out.txt | 05-Mar-2024 01:39 | 9.6K | ||
install-summary.dcf | 05-Mar-2024 01:39 | 267 | ||