Name | Last modified | Size | Description | |
---|---|---|---|---|
Parent Directory | - | |||
install-summary.dcf | 11-May-2024 00:38 | 265 | ||
install-out.txt | 11-May-2024 00:38 | 9.6K | ||
checksrc-summary.dcf | 04-May-2024 00:38 | 435 | ||
checksrc-out.txt | 04-May-2024 00:38 | 7.0K | ||
buildsrc-summary.dcf | 11-May-2024 00:38 | 345 | ||
buildsrc-out.txt | 11-May-2024 00:38 | 662 | ||
buildbin-summary.dcf | 04-May-2024 00:38 | 515 | ||
buildbin-out.txt | 04-May-2024 00:38 | 13K | ||