Name | Last modified | Size | Description | |
---|---|---|---|---|
Parent Directory | - | |||
buildbin-out.txt | 02-May-2024 00:36 | 1.2K | ||
buildbin-summary.dcf | 02-May-2024 00:36 | 572 | ||
buildsrc-out.txt | 02-May-2024 00:36 | 1.8K | ||
buildsrc-summary.dcf | 02-May-2024 00:36 | 448 | ||
checksrc-out.txt | 02-May-2024 00:36 | 4.3K | ||
checksrc-summary.dcf | 02-May-2024 00:36 | 472 | ||
install-out.txt | 02-May-2024 00:36 | 1.0K | ||
install-summary.dcf | 02-May-2024 00:36 | 283 | ||