![]() | Name | Last modified | Size | Description |
---|---|---|---|---|
![]() | Parent Directory | - | ||
![]() | buildsrc-out.txt | 26-Sep-2023 00:36 | 893 | |
![]() | buildsrc-summary.dcf | 26-Sep-2023 00:36 | 435 | |
![]() | checksrc-out.txt | 26-Sep-2023 00:36 | 4.4K | |
![]() | checksrc-summary.dcf | 26-Sep-2023 00:36 | 442 | |
![]() | install-out.txt | 26-Sep-2023 00:36 | 1.2K | |
![]() | install-summary.dcf | 26-Sep-2023 00:36 | 271 | |