Name | Last modified | Size | Description | |
---|---|---|---|---|
Parent Directory | - | |||
buildbin-out.txt | 05-Mar-2024 01:39 | 1.4K | ||
buildbin-summary.dcf | 05-Mar-2024 01:39 | 566 | ||
buildsrc-out.txt | 05-Mar-2024 01:39 | 903 | ||
buildsrc-summary.dcf | 05-Mar-2024 01:39 | 446 | ||
checksrc-out.txt | 05-Mar-2024 01:39 | 4.6K | ||
checksrc-summary.dcf | 05-Mar-2024 01:39 | 472 | ||
install-out.txt | 05-Mar-2024 01:39 | 1.2K | ||
install-summary.dcf | 05-Mar-2024 01:39 | 281 | ||