Name | Last modified | Size | Description | |
---|---|---|---|---|
Parent Directory | - | |||
buildbin-out.txt | 28-Jul-2024 00:39 | 1.6K | ||
buildbin-summary.dcf | 28-Jul-2024 00:39 | 503 | ||
buildsrc-out.txt | 28-Jul-2024 00:39 | 861 | ||
buildsrc-summary.dcf | 28-Jul-2024 00:39 | 444 | ||
checksrc-out.txt | 28-Jul-2024 00:39 | 4.6K | ||
checksrc-summary.dcf | 28-Jul-2024 00:39 | 445 | ||
install-out.txt | 28-Jul-2024 00:39 | 1.5K | ||
install-summary.dcf | 28-Jul-2024 00:39 | 264 | ||