Index of /checkResults/devel/bioc-LATEST/iCARE/raw-results

[ICO]NameLast modifiedSizeDescription

[DIR]Parent Directory  -  
[   ]info.dcf27-Nov-2022 01:09 260  
[DIR]merida1/27-Nov-2022 01:09 -  
[DIR]nebbiolo1/27-Nov-2022 01:05 -  
[DIR]palomino3/27-Nov-2022 01:07 -