Name | Last modified | Size | Description | |
---|---|---|---|---|
Parent Directory | - | |||
install-summary.dcf | 17-Jul-2024 00:40 | 270 | ||
install-out.txt | 17-Jul-2024 00:40 | 1.5K | ||
checksrc-summary.dcf | 17-Jul-2024 00:40 | 457 | ||
checksrc-out.txt | 17-Jul-2024 00:40 | 4.6K | ||
buildsrc-summary.dcf | 17-Jul-2024 00:40 | 450 | ||
buildsrc-out.txt | 17-Jul-2024 00:40 | 867 | ||
buildbin-summary.dcf | 17-Jul-2024 00:40 | 509 | ||
buildbin-out.txt | 17-Jul-2024 00:40 | 1.7K | ||