Name | Last modified | Size | Description | |
---|---|---|---|---|
Parent Directory | - | |||
install-summary.dcf | 27-Jul-2024 00:42 | 264 | ||
install-out.txt | 27-Jul-2024 00:42 | 7.0K | ||
checksrc-summary.dcf | 27-Jul-2024 00:42 | 441 | ||
checksrc-out.txt | 27-Jul-2024 00:42 | 7.8K | ||
buildsrc-summary.dcf | 27-Jul-2024 00:42 | 421 | ||
buildsrc-out.txt | 27-Jul-2024 00:42 | 838 | ||
buildbin-summary.dcf | 27-Jul-2024 00:42 | 517 | ||
buildbin-out.txt | 27-Jul-2024 00:42 | 8.9K | ||