Index of /checkResults/devel/bioc-LATEST/iCARE/raw-results
Name
Last modified
Size
Description
Parent Directory
-
info.dcf
19-Aug-2022 00:08
260
palomino4/
19-Aug-2022 00:06
-
nebbiolo2/
19-Aug-2022 00:05
-
lconway/
19-Aug-2022 00:08
-
kjohnson/
12-Jul-2022 00:06
-