Index of /checkResults/devel/bioc-LATEST/iCARE/raw-results/lconway

[ICO]NameLast modifiedSizeDescription

[DIR]Parent Directory  -  
[TXT]buildbin-out.txt25-Jun-2022 00:08 2.4K 
[   ]buildbin-summary.dcf25-Jun-2022 00:08 518  
[TXT]buildsrc-out.txt25-Jun-2022 00:08 838  
[   ]buildsrc-summary.dcf25-Jun-2022 00:08 422  
[TXT]checksrc-out.txt25-Jun-2022 00:08 3.9K 
[   ]checksrc-summary.dcf25-Jun-2022 00:08 442  
[TXT]install-out.txt25-Jun-2022 00:08 1.6K 
[   ]install-summary.dcf25-Jun-2022 00:08 265