Name | Last modified | Size | Description | |
---|---|---|---|---|
Parent Directory | - | |||
install-out.txt | 27-Jul-2024 00:38 | 961 | ||
install-summary.dcf | 27-Jul-2024 00:38 | 264 | ||
buildsrc-out.txt | 27-Jul-2024 00:38 | 904 | ||
buildsrc-summary.dcf | 27-Jul-2024 00:38 | 429 | ||
checksrc-out.txt | 27-Jul-2024 00:38 | 3.5K | ||
checksrc-summary.dcf | 27-Jul-2024 00:38 | 425 | ||