Name | Last modified | Size | Description | |
---|---|---|---|---|
Parent Directory | - | |||
buildsrc-out.txt | 09-Jul-2024 00:45 | 895 | ||
buildsrc-summary.dcf | 09-Jul-2024 00:45 | 325 | ||
checksrc-out.txt | 05-Jul-2024 00:44 | 3.6K | ||
checksrc-summary.dcf | 05-Jul-2024 00:44 | 416 | ||
install-out.txt | 06-Jul-2024 00:44 | 662 | ||
install-summary.dcf | 06-Jul-2024 00:44 | 254 | ||